BEGIN:VCALENDAR
VERSION:2.0
PRODID:-//Tukios.com/
BEGIN:VEVENT
UID:944d2d16-f75d-4047-895f-98420eafd4ec@www.towersfuneralhomeny.com
DTSTAMP:20260425T190521Z
DTSTART:20260427T153000Z
DTEND:20260427T163000Z
SUMMARY:Interment
DESCRIPTION:
URL:https://www.towersfuneralhomeny.com/obituaries/carlo-bitti
LOCATION:Greenfield Cemetery 650 Nassau Road  Uniondale NY 11553
GEO:40.68967;-73.6050502
END:VEVENT
END:VCALENDAR