BEGIN:VCALENDAR
VERSION:2.0
PRODID:-//Tukios.com/
BEGIN:VEVENT
UID:3714e142-729e-431d-ab70-42a5c3c6394f@www.towersfuneralhomeny.com
DTSTAMP:20260421T195952Z
DTSTART:20260425T150000Z
DTEND:20260425T160000Z
SUMMARY:Entombment
DESCRIPTION:
URL:https://www.towersfuneralhomeny.com/obituaries/emilio-tafuri
LOCATION:Pinelawn Memorial Park and Arboretum 2030 Wellwood Avenue  
	Farmingdale NY 11735
GEO:40.7499974;-73.4055896
END:VEVENT
END:VCALENDAR