BEGIN:VCALENDAR
VERSION:2.0
PRODID:-//Tukios.com/
BEGIN:VEVENT
UID:abb8fb52-42a8-437d-83a5-cec4accd2bde@www.towersfuneralhomeny.com
DTSTAMP:20260421T200415Z
DTSTART:20260424T230000Z
DTEND:20260425T010000Z
SUMMARY:Visitation
DESCRIPTION:
URL:https://www.towersfuneralhomeny.com/obituaries/emilio-tafuri
LOCATION:Towers Funeral Home, Inc. 2681 Long Beach Road  Oceanside NY 
	11572
GEO:40.6467945;-73.6380351
END:VEVENT
END:VCALENDAR