BEGIN:VCALENDAR
VERSION:2.0
PRODID:-//Tukios.com/
BEGIN:VEVENT
UID:bbcf93a7-c9bf-48f2-b779-e208284ae366@www.towersfuneralhomeny.com
DTSTAMP:20260420T134251Z
DTSTART:20260424T180000Z
DTEND:20260424T200000Z
SUMMARY:Visitation
DESCRIPTION:
URL:https://www.towersfuneralhomeny.com/obituaries/gertrude-carty
LOCATION:Towers Funeral Home, Inc. 2681 Long Beach Road  Oceanside NY 
	11572
GEO:40.6467945;-73.6380351
END:VEVENT
END:VCALENDAR