BEGIN:VCALENDAR
VERSION:2.0
PRODID:-//Tukios.com/
BEGIN:VEVENT
UID:4077711b-e4bb-4055-8678-3f911dfd6215@www.towersfuneralhomeny.com
DTSTAMP:20260420T134511Z
DTSTART:20260425T140000Z
DTEND:20260425T150000Z
SUMMARY:Interment
DESCRIPTION:
URL:https://www.towersfuneralhomeny.com/obituaries/gertrude-carty
LOCATION:Greenfield Cemetery 650 Nassau Road  Uniondale NY 11553
GEO:40.68967;-73.6050502
END:VEVENT
END:VCALENDAR