BEGIN:VCALENDAR
VERSION:2.0
PRODID:-//Tukios.com/
BEGIN:VEVENT
UID:c296fb42-e25d-4449-881f-b6ec19e207c0@www.towersfuneralhomeny.com
DTSTAMP:20260422T193451Z
DTSTART:20260426T180000Z
DTEND:20260426T200000Z
SUMMARY:Visitation
DESCRIPTION:
URL:https://www.towersfuneralhomeny.com/obituaries/jacqueline-gianakos
LOCATION:Towers Funeral Home, Inc. 2681 Long Beach Road  Oceanside NY 
	11572
GEO:40.6467945;-73.6380351
END:VEVENT
END:VCALENDAR