BEGIN:VCALENDAR
VERSION:2.0
PRODID:-//Tukios.com/
BEGIN:VEVENT
UID:7ee84a84-d834-473d-abbe-94b573648b5c@www.towersfuneralhomeny.com
DTSTAMP:20260422T193457Z
DTSTART:20260426T230000Z
DTEND:20260427T010000Z
SUMMARY:Visitation
DESCRIPTION:
URL:https://www.towersfuneralhomeny.com/obituaries/jacqueline-gianakos
LOCATION:Towers Funeral Home, Inc. 2681 Long Beach Road  Oceanside NY 
	11572
GEO:40.6467945;-73.6380351
END:VEVENT
END:VCALENDAR