BEGIN:VCALENDAR
VERSION:2.0
PRODID:-//Tukios.com/
BEGIN:VEVENT
UID:b493ac97-a8a4-46cb-8f92-d9af97c5d2f2@www.towersfuneralhomeny.com
DTSTAMP:20260422T193438Z
DTSTART:20260427T144500Z
DTEND:20260427T154500Z
SUMMARY:Funeral Mass
DESCRIPTION:
URL:https://www.towersfuneralhomeny.com/obituaries/jacqueline-gianakos
LOCATION:St Anthony's Roman Catholic Church 88 Anchor Avenue  Oceanside 
	NY 11572
GEO:40.6376603;-73.6436773
END:VEVENT
END:VCALENDAR