BEGIN:VCALENDAR
VERSION:2.0
PRODID:-//Tukios.com/
BEGIN:VEVENT
UID:4d00ae94-0dba-40e9-8220-179675e09369@www.towersfuneralhomeny.com
DTSTAMP:20260419T221727Z
DTSTART:20260422T163000Z
DTEND:20260422T173000Z
SUMMARY:Interment
DESCRIPTION:
URL:https://www.towersfuneralhomeny.com/obituaries/joseph-bellona
LOCATION:St. Charles / Resurrection Cemeteries 2015 Wellwood Avenue  
	FARMINGDALE NY 11735
GEO:40.7372887;-73.4014456
END:VEVENT
END:VCALENDAR