BEGIN:VCALENDAR
VERSION:2.0
PRODID:-//Tukios.com/
BEGIN:VEVENT
UID:7b6f306e-bed9-46e1-9f05-f0e67ba0cd01@www.towersfuneralhomeny.com
DTSTAMP:20260419T221549Z
DTSTART:20260422T144500Z
DTEND:20260422T154500Z
SUMMARY:Funeral Mass
DESCRIPTION:
URL:https://www.towersfuneralhomeny.com/obituaries/joseph-bellona
LOCATION:St Anthony's Roman Catholic Church 88 Anchor Avenue  Oceanside 
	NY 11572
GEO:40.6376603;-73.6436773
END:VEVENT
END:VCALENDAR