BEGIN:VCALENDAR
VERSION:2.0
PRODID:-//Tukios.com/
BEGIN:VEVENT
UID:407d751e-e9c2-4e04-bd5e-5e97dac0c084@www.towersfuneralhomeny.com
DTSTAMP:20260420T224421Z
DTSTART:20260424T150000Z
DTEND:20260424T160000Z
SUMMARY:Interment
DESCRIPTION:
URL:https://www.towersfuneralhomeny.com/obituaries/robert-barkman
LOCATION:Pinelawn Memorial Park and Arboretum 2030 Wellwood Avenue  
	Farmingdale NY 11735
GEO:40.7499974;-73.4055896
END:VEVENT
END:VCALENDAR