BEGIN:VCALENDAR
VERSION:2.0
PRODID:-//Tukios.com/
BEGIN:VEVENT
UID:c1abb9ee-799a-45f1-b64b-7fed2a0c3602@www.towersfuneralhomeny.com
DTSTAMP:20260420T224855Z
DTSTART:20260423T200000Z
DTEND:20260424T000000Z
SUMMARY:Visitation
DESCRIPTION:
URL:https://www.towersfuneralhomeny.com/obituaries/robert-barkman
LOCATION:Towers Funeral Home, Inc. 2681 Long Beach Road  Oceanside NY 
	11572
GEO:40.6467945;-73.6380351
END:VEVENT
END:VCALENDAR